BEGIN:VCALENDAR
VERSION:2.0
PRODID:-//wp-events-plugin.com//7.2.3.1//EN
TZID:America/Detroit
X-WR-TIMEZONE:America/Detroit
BEGIN:VEVENT
UID:7146@m66cannabis.com
DTSTART;TZID=America/Detroit:20250221T150000
DTEND;TZID=America/Detroit:20250221T180000
DTSTAMP:20250203T180702Z
URL:https://m66cannabis.com/events/franklin-fields-vendor-day-8/
SUMMARY:Franklin Fields Vendor Day!
DESCRIPTION:Frankie is coming back to town! Join us on Friday\, February 21
 st from 3:00pm to 6:00pm for 50% off all Franklin Fields Products!
ATTACH;FMTTYPE=image/jpeg:https://m66cannabis.com/wp-content/uploads/2024/
 05/franklin-fields-logo.jpg
CATEGORIES:Store Events
END:VEVENT
BEGIN:VTIMEZONE
TZID:America/Detroit
X-LIC-LOCATION:America/Detroit
BEGIN:STANDARD
DTSTART:20241103T010000
TZOFFSETFROM:-0400
TZOFFSETTO:-0500
TZNAME:EST
END:STANDARD
END:VTIMEZONE
END:VCALENDAR